BEGIN:VCALENDAR
VERSION:2.0
PRODID:-//Lighthouse Christian Academy - ECPv6.15.20//NONSGML v1.0//EN
CALSCALE:GREGORIAN
METHOD:PUBLISH
X-ORIGINAL-URL:https://lcaschoolnj.com
X-WR-CALDESC:Events for Lighthouse Christian Academy
REFRESH-INTERVAL;VALUE=DURATION:PT1H
X-Robots-Tag:noindex
X-PUBLISHED-TTL:PT1H
BEGIN:VTIMEZONE
TZID:UTC
BEGIN:STANDARD
TZOFFSETFROM:+0000
TZOFFSETTO:+0000
TZNAME:UTC
DTSTART:20230101T000000
END:STANDARD
END:VTIMEZONE
BEGIN:VEVENT
DTSTART;TZID=UTC:20241107T160000
DTEND;TZID=UTC:20241107T190000
DTSTAMP:20260424T183149
CREATED:20241007T224852Z
LAST-MODIFIED:20241007T225021Z
UID:161-1730995200-1731006000@lcaschoolnj.com
SUMMARY:Parent Teacher Conferences
DESCRIPTION:Schedule with your child’s teacher. \nFull School Day for students.
URL:https://lcaschoolnj.com/event/parent-teacher-conferences/
CATEGORIES:Meetings
END:VEVENT
BEGIN:VEVENT
DTSTART;TZID=UTC:20241101T100000
DTEND;TZID=UTC:20241101T130000
DTSTAMP:20260424T183149
CREATED:20241007T224653Z
LAST-MODIFIED:20241007T224653Z
UID:159-1730455200-1730466000@lcaschoolnj.com
SUMMARY:Grand Parents Day
DESCRIPTION:Grand parents will be invited for a special Chapel event and time of fellowship in class. \nDismissal will be at 1pm for all students and instructional staff.
URL:https://lcaschoolnj.com/event/grand-parents-day/
CATEGORIES:Special Event
END:VEVENT
BEGIN:VEVENT
DTSTART;VALUE=DATE:20241014
DTEND;VALUE=DATE:20241015
DTSTAMP:20260424T183149
CREATED:20241007T224502Z
LAST-MODIFIED:20241007T224502Z
UID:157-1728864000-1728950399@lcaschoolnj.com
SUMMARY:Closed -  Columbus Day
DESCRIPTION:
URL:https://lcaschoolnj.com/event/closed-columbus-day/
END:VEVENT
END:VCALENDAR