BEGIN:VCALENDAR
VERSION:2.0
PRODID:-//Lighthouse Christian Academy - ECPv6.15.20//NONSGML v1.0//EN
CALSCALE:GREGORIAN
METHOD:PUBLISH
X-ORIGINAL-URL:https://lcaschoolnj.com
X-WR-CALDESC:Events for Lighthouse Christian Academy
REFRESH-INTERVAL;VALUE=DURATION:PT1H
X-Robots-Tag:noindex
X-PUBLISHED-TTL:PT1H
BEGIN:VTIMEZONE
TZID:America/Halifax
BEGIN:DAYLIGHT
TZOFFSETFROM:-0400
TZOFFSETTO:-0300
TZNAME:ADT
DTSTART:20240310T060000
END:DAYLIGHT
BEGIN:STANDARD
TZOFFSETFROM:-0300
TZOFFSETTO:-0400
TZNAME:AST
DTSTART:20241103T050000
END:STANDARD
BEGIN:DAYLIGHT
TZOFFSETFROM:-0400
TZOFFSETTO:-0300
TZNAME:ADT
DTSTART:20250309T060000
END:DAYLIGHT
BEGIN:STANDARD
TZOFFSETFROM:-0300
TZOFFSETTO:-0400
TZNAME:AST
DTSTART:20251102T050000
END:STANDARD
BEGIN:DAYLIGHT
TZOFFSETFROM:-0400
TZOFFSETTO:-0300
TZNAME:ADT
DTSTART:20260308T060000
END:DAYLIGHT
BEGIN:STANDARD
TZOFFSETFROM:-0300
TZOFFSETTO:-0400
TZNAME:AST
DTSTART:20261101T050000
END:STANDARD
END:VTIMEZONE
BEGIN:VTIMEZONE
TZID:UTC
BEGIN:STANDARD
TZOFFSETFROM:+0000
TZOFFSETTO:+0000
TZNAME:UTC
DTSTART:20230101T000000
END:STANDARD
END:VTIMEZONE
BEGIN:VEVENT
DTSTART;TZID=America/Halifax:20250820T110000
DTEND;TZID=America/Halifax:20250820T130000
DTSTAMP:20260424T183247
CREATED:20250813T143851Z
LAST-MODIFIED:20250813T144123Z
UID:310-1755687600-1755694800@lcaschoolnj.com
SUMMARY:Ice Cream Social
DESCRIPTION:Join us for our Annual Ice Cream Social for students enrolled for the 2025/26 school year!  We’ll have some sweet treats and your chance to win some door prizes like backpacks and school supplies. \n  \n 
URL:https://lcaschoolnj.com/event/ice-cream-social/
LOCATION:Lighthouse Christian Academy\, 400 Beach Ave\, Manahawkin\, NJ\, 08050\, United States
CATEGORIES:Special Event
ATTACH;FMTTYPE=image/jpeg:https://lcaschoolnj.com/wp-content/uploads/2025/08/527939780_1300433978752450_1562446001973049547_n-e1755096031427.jpg
END:VEVENT
BEGIN:VEVENT
DTSTART;TZID=UTC:20250523T090000
DTEND;TZID=UTC:20250523T130000
DTSTAMP:20260424T183247
CREATED:20241015T232557Z
LAST-MODIFIED:20241015T232557Z
UID:227-1747990800-1748005200@lcaschoolnj.com
SUMMARY:Patriotic Picnic
DESCRIPTION:1pm Dismissal
URL:https://lcaschoolnj.com/event/patriotic-picnic/
LOCATION:Lighthouse Christian Academy\, 400 Beach Ave\, Manahawkin\, NJ\, 08050\, United States
CATEGORIES:Special Event
END:VEVENT
BEGIN:VEVENT
DTSTART;VALUE=DATE:20250505
DTEND;VALUE=DATE:20250510
DTSTAMP:20260424T183247
CREATED:20241015T232122Z
LAST-MODIFIED:20241015T232122Z
UID:223-1746403200-1746835199@lcaschoolnj.com
SUMMARY:Standardized Testing
DESCRIPTION:
URL:https://lcaschoolnj.com/event/standardized-testing/
LOCATION:NJ
CATEGORIES:Special Event
END:VEVENT
BEGIN:VEVENT
DTSTART;TZID=UTC:20250325T163000
DTEND;TZID=UTC:20250325T190000
DTSTAMP:20260424T183247
CREATED:20250304T203458Z
LAST-MODIFIED:20250304T205450Z
UID:288-1742920200-1742929200@lcaschoolnj.com
SUMMARY:Open House
DESCRIPTION:Dear Parents\, \nWe invite you to our Lighthouse Christian Academy Open House on Tuesday\, March 25\, 2025\, from 4:30 PM to 7:00 PM. This is a great opportunity to explore our school\, meet our dedicated teachers\, and learn more about our vision for the 2025-2026 school year. \nCome and experience:\n✅ Guided tours of the school\n✅ Classroom displays and demonstrations\n✅ PowerPoint presentation on our programs (4:45pm & 6pm)\n✅ Q&A sessions with teachers and administration \nParents of both Regular Full Time and Micro School students are welcome! New and returning families are invited for grades Pre-K to Middle School. For over 45 years\, Lighthouse Christian Academy has been committed to Christ-centered learning\, and we look forward to sharing our plans for the future with you. \nRegister for the Open House by calling 609-597-3915. \nWe look forward to seeing you there! \nBlessings\,\nLighthouse Christian Academy\nAdministration
URL:https://lcaschoolnj.com/event/open-house/
LOCATION:Lighthouse Christian Academy\, 400 Beach Ave\, Manahawkin\, NJ\, 08050\, United States
CATEGORIES:Special Event
END:VEVENT
BEGIN:VEVENT
DTSTART;VALUE=DATE:20250310
DTEND;VALUE=DATE:20250314
DTSTAMP:20260424T183247
CREATED:20241015T231314Z
LAST-MODIFIED:20250304T222721Z
UID:210-1741564800-1741910399@lcaschoolnj.com
SUMMARY:Spirit Week
DESCRIPTION:Monday – “My Career Monday” Come dressed as your future career. \nTuesday – “Tie Dye Tuesday” Come wearing your best tie-dye \nWednesday – “Whacky Wednesday” Whacky hair and whacky socks \nThursday – “Talent Show”
URL:https://lcaschoolnj.com/event/spirit-week/
LOCATION:NJ
CATEGORIES:Special Event
END:VEVENT
BEGIN:VEVENT
DTSTART;TZID=UTC:20241101T100000
DTEND;TZID=UTC:20241101T130000
DTSTAMP:20260424T183247
CREATED:20241007T224653Z
LAST-MODIFIED:20241007T224653Z
UID:159-1730455200-1730466000@lcaschoolnj.com
SUMMARY:Grand Parents Day
DESCRIPTION:Grand parents will be invited for a special Chapel event and time of fellowship in class. \nDismissal will be at 1pm for all students and instructional staff.
URL:https://lcaschoolnj.com/event/grand-parents-day/
LOCATION:NJ
CATEGORIES:Special Event
END:VEVENT
END:VCALENDAR