BEGIN:VCALENDAR
VERSION:2.0
PRODID:-//Lighthouse Christian Academy - ECPv6.15.20//NONSGML v1.0//EN
CALSCALE:GREGORIAN
METHOD:PUBLISH
X-ORIGINAL-URL:https://lcaschoolnj.com
X-WR-CALDESC:Events for Lighthouse Christian Academy
REFRESH-INTERVAL;VALUE=DURATION:PT1H
X-Robots-Tag:noindex
X-PUBLISHED-TTL:PT1H
BEGIN:VTIMEZONE
TZID:UTC
BEGIN:STANDARD
TZOFFSETFROM:+0000
TZOFFSETTO:+0000
TZNAME:UTC
DTSTART:20230101T000000
END:STANDARD
END:VTIMEZONE
BEGIN:VEVENT
DTSTART;TZID=UTC:20250411T190000
DTEND;TZID=UTC:20250411T200000
DTSTAMP:20260424T194858
CREATED:20241015T231720Z
LAST-MODIFIED:20241015T231813Z
UID:216-1744398000-1744401600@lcaschoolnj.com
SUMMARY:Easter Program 7pm
DESCRIPTION:Easter best attire.  Students report to the All Purpose room by 6:30pm
URL:https://lcaschoolnj.com/event/easter-program-7pm/
LOCATION:Manahawkin Baptist Church\, 400 Beach Ave\, Manahawkin\, NJ\, 08050\, United States
CATEGORIES:Performances/Programs
END:VEVENT
BEGIN:VEVENT
DTSTART;TZID=UTC:20250411T140000
DTEND;TZID=UTC:20250411T150000
DTSTAMP:20260424T194858
CREATED:20241015T231545Z
LAST-MODIFIED:20241015T231545Z
UID:214-1744380000-1744383600@lcaschoolnj.com
SUMMARY:Easter Program 2pm
DESCRIPTION:Chapel Attire\, performance takes place during school hours.
URL:https://lcaschoolnj.com/event/easter-program-2pm/
LOCATION:Manahawkin Baptist Church\, 400 Beach Ave\, Manahawkin\, NJ\, 08050\, United States
CATEGORIES:Performances/Programs
END:VEVENT
BEGIN:VEVENT
DTSTART;TZID=UTC:20250313T140000
DTEND;TZID=UTC:20250313T150000
DTSTAMP:20260424T194858
CREATED:20250304T205623Z
LAST-MODIFIED:20250304T205743Z
UID:290-1741874400-1741878000@lcaschoolnj.com
SUMMARY:Talent Show
DESCRIPTION:Parents are welcome to join us at 2pm for our Spirit Week Talent Show in the All Purpose Room.
URL:https://lcaschoolnj.com/event/talent-show/
LOCATION:Lighthouse Christian Academy\, 400 Beach Ave\, Manahawkin\, NJ\, 08050\, United States
CATEGORIES:Performances/Programs
END:VEVENT
BEGIN:VEVENT
DTSTART;TZID=UTC:20241213T190000
DTEND;TZID=UTC:20241213T203000
DTSTAMP:20260424T194858
CREATED:20241007T225655Z
LAST-MODIFIED:20241007T225655Z
UID:169-1734116400-1734121800@lcaschoolnj.com
SUMMARY:Evening Christmas Program
DESCRIPTION:Your child should arrive at the school by 6:30pm and report to the doors facing MBC.  Students should report to the All Purpose Room. \n 
URL:https://lcaschoolnj.com/event/evening-christmas-program/
LOCATION:NJ
CATEGORIES:Performances/Programs
END:VEVENT
BEGIN:VEVENT
DTSTART;TZID=UTC:20241213T140000
DTEND;TZID=UTC:20241213T150000
DTSTAMP:20260424T194858
CREATED:20241007T225423Z
LAST-MODIFIED:20241007T225423Z
UID:167-1734098400-1734102000@lcaschoolnj.com
SUMMARY:Afternoon Christmas Program
DESCRIPTION:This will happen during normal school hours.  Your child should be dressed in their chapel uniform.
URL:https://lcaschoolnj.com/event/afternoon-christmas-program/
LOCATION:NJ
CATEGORIES:Performances/Programs
END:VEVENT
END:VCALENDAR